BEGIN:VCALENDAR
VERSION:2.0
PRODID:-//General Service Committees - ECPv6.15.16.1//NONSGML v1.0//EN
CALSCALE:GREGORIAN
METHOD:PUBLISH
X-WR-CALNAME:General Service Committees
X-ORIGINAL-URL:https://edmontonaa.net
X-WR-CALDESC:Events for General Service Committees
REFRESH-INTERVAL;VALUE=DURATION:PT1H
X-Robots-Tag:noindex
X-PUBLISHED-TTL:PT1H
BEGIN:VTIMEZONE
TZID:America/Edmonton
BEGIN:DAYLIGHT
TZOFFSETFROM:-0700
TZOFFSETTO:-0600
TZNAME:MDT
DTSTART:20240310T090000
END:DAYLIGHT
BEGIN:STANDARD
TZOFFSETFROM:-0600
TZOFFSETTO:-0700
TZNAME:MST
DTSTART:20241103T080000
END:STANDARD
BEGIN:DAYLIGHT
TZOFFSETFROM:-0700
TZOFFSETTO:-0600
TZNAME:MDT
DTSTART:20250309T090000
END:DAYLIGHT
BEGIN:STANDARD
TZOFFSETFROM:-0600
TZOFFSETTO:-0700
TZNAME:MST
DTSTART:20251102T080000
END:STANDARD
BEGIN:DAYLIGHT
TZOFFSETFROM:-0700
TZOFFSETTO:-0600
TZNAME:MDT
DTSTART:20260308T090000
END:DAYLIGHT
BEGIN:STANDARD
TZOFFSETFROM:-0600
TZOFFSETTO:-0700
TZNAME:MST
DTSTART:20261101T080000
END:STANDARD
BEGIN:DAYLIGHT
TZOFFSETFROM:-0700
TZOFFSETTO:-0600
TZNAME:MDT
DTSTART:20270314T090000
END:DAYLIGHT
BEGIN:STANDARD
TZOFFSETFROM:-0600
TZOFFSETTO:-0700
TZNAME:MST
DTSTART:20271107T080000
END:STANDARD
END:VTIMEZONE
BEGIN:VEVENT
DTSTART;TZID=America/Edmonton:20260313T190000
DTEND;TZID=America/Edmonton:20260313T200000
DTSTAMP:20260423T072402
CREATED:20260311T210252Z
LAST-MODIFIED:20260311T210254Z
UID:10001124-1773428400-1773432000@edmontonaa.net
SUMMARY:CPC Ad-Hoc Committee Meeting
DESCRIPTION:We are striking an Ad-hoc Committee for our upcoming Luncheon. We will discuss name’s of people to present and assign tasks for the upcoming event. \n\n\n\nWHERE:Zoom  780239-1546
URL:https://edmontonaa.net/event/cpc-ad-hoc-committee-meeting/
LOCATION:Zoom 7802391546\, Edmonton
CATEGORIES:PI/CPC
ATTACH;FMTTYPE=image/jpeg:https://edmontonaa.net/wp-content/uploads/2023/08/PICPC-Image.jpg
END:VEVENT
BEGIN:VEVENT
DTSTART;TZID=America/Edmonton:20251113T183000
DTEND;TZID=America/Edmonton:20251113T193000
DTSTAMP:20260423T072402
CREATED:20251110T223602Z
LAST-MODIFIED:20251110T223611Z
UID:10001039-1763058600-1763062200@edmontonaa.net
SUMMARY:PI/CPC Speaker Training Ad-Hoc Committee Meeting
DESCRIPTION:We will be meeting to distribute roles for the upcoming speaker training. Discussion of how the event will be presented will be discussed  \n\n\n\nWHERE: ZoomZOOM Meeting ID: 7802391546Password: None \n\n\n\nPI/CPC Information \n\n\n\nPI Slide Deck \n\n\n\nCPC Slide Deck \n\n\n\nEvent Poster
URL:https://edmontonaa.net/event/pi-cpc-speaker-training-ad-hoc-committee-meeting-2/
LOCATION:Zoom 7802391546\, Edmonton
CATEGORIES:PI/CPC
ATTACH;FMTTYPE=image/jpeg:https://edmontonaa.net/wp-content/uploads/2023/08/PICPC-Image.jpg
END:VEVENT
BEGIN:VEVENT
DTSTART;TZID=America/Edmonton:20251104T183000
DTEND;TZID=America/Edmonton:20251104T193000
DTSTAMP:20260423T072402
CREATED:20251101T225717Z
LAST-MODIFIED:20251101T225725Z
UID:10001038-1762281000-1762284600@edmontonaa.net
SUMMARY:PI/CPC Speaker Training Ad-Hoc Committee Meeting
DESCRIPTION:We will be meeting to distribute roles for the upcoming speaker training. Discussion of how the event will be presented will be discussed  \n\n\n\nWHERE: ZoomZOOM Meeting ID: 7802391546Password: None \n\n\n\nPI/CPC Information \n\n\n\nPI Slide Deck \n\n\n\nCPC Slide Deck \n\n\n\nEvent Poster
URL:https://edmontonaa.net/event/pi-cpc-speaker-training-ad-hoc-committee-meeting/
LOCATION:Zoom 7802391546\, Edmonton
CATEGORIES:PI/CPC
ATTACH;FMTTYPE=image/jpeg:https://edmontonaa.net/wp-content/uploads/2023/08/PICPC-Image.jpg
END:VEVENT
END:VCALENDAR