BEGIN:VCALENDAR
VERSION:2.0
PRODID:-//General Service Committees - ECPv6.15.16.1//NONSGML v1.0//EN
CALSCALE:GREGORIAN
METHOD:PUBLISH
X-WR-CALNAME:General Service Committees
X-ORIGINAL-URL:https://edmontonaa.net
X-WR-CALDESC:Events for General Service Committees
REFRESH-INTERVAL;VALUE=DURATION:PT1H
X-Robots-Tag:noindex
X-PUBLISHED-TTL:PT1H
BEGIN:VTIMEZONE
TZID:America/Edmonton
BEGIN:DAYLIGHT
TZOFFSETFROM:-0700
TZOFFSETTO:-0600
TZNAME:MDT
DTSTART:20240310T090000
END:DAYLIGHT
BEGIN:STANDARD
TZOFFSETFROM:-0600
TZOFFSETTO:-0700
TZNAME:MST
DTSTART:20241103T080000
END:STANDARD
BEGIN:DAYLIGHT
TZOFFSETFROM:-0700
TZOFFSETTO:-0600
TZNAME:MDT
DTSTART:20250309T090000
END:DAYLIGHT
BEGIN:STANDARD
TZOFFSETFROM:-0600
TZOFFSETTO:-0700
TZNAME:MST
DTSTART:20251102T080000
END:STANDARD
BEGIN:DAYLIGHT
TZOFFSETFROM:-0700
TZOFFSETTO:-0600
TZNAME:MDT
DTSTART:20260308T090000
END:DAYLIGHT
BEGIN:STANDARD
TZOFFSETFROM:-0600
TZOFFSETTO:-0700
TZNAME:MST
DTSTART:20261101T080000
END:STANDARD
END:VTIMEZONE
BEGIN:VEVENT
DTSTART;TZID=America/Edmonton:20250714T110000
DTEND;TZID=America/Edmonton:20250714T121500
DTSTAMP:20260423T171959
CREATED:20250614T115952Z
LAST-MODIFIED:20250614T115955Z
UID:10000999-1752490800-1752495300@edmontonaa.net
SUMMARY:Archbishop O'Leary CALM Class
DESCRIPTION:This is a Public Information presentation. This is a CALM class (Career and Life Management). We typically present to grade 11 or 12 students. The aim of CALM is to help students make well-informed\, considered decisions and choices in all aspects of their lives and to develop behaviours and attitudes that contribute to the well-being and respect of self and others. Participants will learn how alcohol can affect their lives and the lives of those around them\, the problems alcohol may cause and how to find websites and literature on alcohol. It is advised that you show up at least 30 minutes before “go time.” The address is 8760 132 Avenue\, Edmonton\, AB\, T5E 0X8 (see attached map). Please meet in the office as you will need to sign in. The school phone number is 780-476-6251. The teacher for this class is Owen Holloway & Christopher Clackett. We will be presenting to 2 Calm class and will be advised of the room when signing is on the day of \n\n\n\nParking instructions: O’Leary does not have visitor parking. Neighbourhood parking is best. Do NOT park at O’Leary pool\, as bylaw can issue tickets.  \n\n\n\nSlide Deck \n\n\n\nSpeaker Notes
URL:https://edmontonaa.net/event/archbishop-oleary-calm-class-7/
LOCATION:Edmonton\, Canada
CATEGORIES:PI/CPC
ATTACH;FMTTYPE=image/jpeg:https://edmontonaa.net/wp-content/uploads/2023/08/PICPC-Image.jpg
END:VEVENT
BEGIN:VEVENT
DTSTART;TZID=America/Edmonton:20250715T110000
DTEND;TZID=America/Edmonton:20250715T121500
DTSTAMP:20260423T171959
CREATED:20250614T120743Z
LAST-MODIFIED:20250614T120747Z
UID:10001000-1752577200-1752581700@edmontonaa.net
SUMMARY:Louis St. Laurant Calm Class
DESCRIPTION:This is a Public Information presentation. This is a CALM class (Career and Life Management). We typically present to grade 11 or 12 students. The aim of CALM is to help students make well-informed\, considered decisions and choices in all aspects of their lives and to develop behaviours and attitudes that contribute to the well-being and respect of self and others. Participants will learn how alcohol can affect their lives and the lives of those around them\, the problems alcohol may cause and how to find websites and literature on alcohol.  It is advised that you show up at least 30 minutes before “go time.” The address is 11230 43 Ave NW Edmonton\, Ab\, T6J 0X8 (see attached map). The school phone number is 780-435-3964 with Liam Haculiak. Parking instructions: Louis St. Laurent in the North parking lot. You can then enter through the North doors. To enter\, hit the buzzer and someone will let you in and lead you to the class. \n\n\n\nSlide Deck & Agenda \n\n\n\nSpeaker Notes
URL:https://edmontonaa.net/event/louis-st-laurant-calm-class/
LOCATION:Edmonton\, Canada
CATEGORIES:PI/CPC
ATTACH;FMTTYPE=image/jpeg:https://edmontonaa.net/wp-content/uploads/2023/08/PICPC-Image.jpg
END:VEVENT
END:VCALENDAR