BEGIN:VCALENDAR
VERSION:2.0
PRODID:-//General Service Committees - ECPv6.15.16.1//NONSGML v1.0//EN
CALSCALE:GREGORIAN
METHOD:PUBLISH
X-WR-CALNAME:General Service Committees
X-ORIGINAL-URL:https://edmontonaa.net
X-WR-CALDESC:Events for General Service Committees
REFRESH-INTERVAL;VALUE=DURATION:PT1H
X-Robots-Tag:noindex
X-PUBLISHED-TTL:PT1H
BEGIN:VTIMEZONE
TZID:America/Edmonton
BEGIN:DAYLIGHT
TZOFFSETFROM:-0700
TZOFFSETTO:-0600
TZNAME:MDT
DTSTART:20240310T090000
END:DAYLIGHT
BEGIN:STANDARD
TZOFFSETFROM:-0600
TZOFFSETTO:-0700
TZNAME:MST
DTSTART:20241103T080000
END:STANDARD
BEGIN:DAYLIGHT
TZOFFSETFROM:-0700
TZOFFSETTO:-0600
TZNAME:MDT
DTSTART:20250309T090000
END:DAYLIGHT
BEGIN:STANDARD
TZOFFSETFROM:-0600
TZOFFSETTO:-0700
TZNAME:MST
DTSTART:20251102T080000
END:STANDARD
BEGIN:DAYLIGHT
TZOFFSETFROM:-0700
TZOFFSETTO:-0600
TZNAME:MDT
DTSTART:20260308T090000
END:DAYLIGHT
BEGIN:STANDARD
TZOFFSETFROM:-0600
TZOFFSETTO:-0700
TZNAME:MST
DTSTART:20261101T080000
END:STANDARD
END:VTIMEZONE
BEGIN:VEVENT
DTSTART;TZID=America/Edmonton:20250506T134500
DTEND;TZID=America/Edmonton:20250506T150200
DTSTAMP:20260423T201115
CREATED:20250127T200250Z
LAST-MODIFIED:20250417T120100Z
UID:10000976-1746539100-1746543720@edmontonaa.net
SUMMARY:St. Cecilia Junior High CALM Class
DESCRIPTION:This is a Public Information presentation. This is a CALM class (Career and Life Management). We typically present to grade 11 or 12 students. The aim of CALM is to help students make well-informed\, considered decisions and choices in all aspects of their lives and to develop behaviours and attitudes that contribute to the well-being and respect of self and others. Participants will learn how alcohol can affect their lives and the lives of those around them\, the problems alcohol may cause and how to find websites and literature on alcohol. It is advised that you show up at least 30 minutes before “go time.” The address is 8760 132 Avenue\, Edmonton\, AB\, T5E 0X8 (see attached map). Please meet in the office as you will need to sign in. The school phone number is 780-476-6251. The teacher for this class is Mr. Ferguson in Room C116 \n\n\n\nParking instructions: O’Leary/St. Cecilia does not have visitor parking. Neighbourhood parking is best. Do NOT park at O’Leary pool\, as bylaw can issue tickets. \n\n\n\nSlide Deck & Agenda \n\n\n\nSpeaker Notes
URL:https://edmontonaa.net/event/st-cecilia-junior-high-calm-class-3/
LOCATION:Edmonton\, Canada
CATEGORIES:PI/CPC
ATTACH;FMTTYPE=image/jpeg:https://edmontonaa.net/wp-content/uploads/2023/08/PICPC-Image.jpg
END:VEVENT
BEGIN:VEVENT
DTSTART;TZID=America/Edmonton:20250507T193000
DTEND;TZID=America/Edmonton:20250507T203000
DTSTAMP:20260423T201115
CREATED:20250402T173215Z
LAST-MODIFIED:20250507T231457Z
UID:10000994-1746646200-1746649800@edmontonaa.net
SUMMARY:Area 78 Public Information Committee Presentation
DESCRIPTION:Join us as we present to our friends in Area 78 on how to make and maintain relationships with our friends outside of AA. \n\n\n\nThis is an online event. The Zoom ID is 884 6706 8193 and the password is 810204 \n\n\n\nSlide Deck \n\n\n\nZoom Link
URL:https://edmontonaa.net/event/area-78-public-information-committee-presentation/
CATEGORIES:PI/CPC
ATTACH;FMTTYPE=image/jpeg:https://edmontonaa.net/wp-content/uploads/2023/08/PICPC-Image.jpg
END:VEVENT
BEGIN:VEVENT
DTSTART;TZID=America/Edmonton:20250514T091500
DTEND;TZID=America/Edmonton:20250514T101500
DTSTAMP:20260423T201115
CREATED:20250512T031643Z
LAST-MODIFIED:20250512T031813Z
UID:10000996-1747214100-1747217700@edmontonaa.net
SUMMARY:CPC Ad-Hoc Committee Meeting
DESCRIPTION:We will be do a practice run of the presentation. \n\n\n\nWHERE: Cordell’s House-36 Montcalm Crescent\, St.Albert \n\n\n\nSlide Deck
URL:https://edmontonaa.net/event/cpc-ad-hoc-committee-meeting-8/
LOCATION:Edmonton\, Canada
CATEGORIES:PI/CPC
ATTACH;FMTTYPE=image/jpeg:https://edmontonaa.net/wp-content/uploads/2023/08/PICPC-Image.jpg
END:VEVENT
BEGIN:VEVENT
DTSTART;TZID=America/Edmonton:20250521T180000
DTEND;TZID=America/Edmonton:20250521T190000
DTSTAMP:20260423T201115
CREATED:20241130T200127Z
LAST-MODIFIED:20241130T200133Z
UID:10000953-1747850400-1747854000@edmontonaa.net
SUMMARY:PICPC Committee Meeting
DESCRIPTION:This is our monthly committee meeting. We discuss upcoming events and roles that need to be filled. All AA members are welcome. Come with us! \n\n\n\nMay Agenda \n\n\n\nApril Minutes
URL:https://edmontonaa.net/event/picpc-committee-meeting-5/
LOCATION:Alano Club\, 10728 124 Street NW\, Edmonton\, Alberta\, T5M 0H1\, Canada
CATEGORIES:PI/CPC
ATTACH;FMTTYPE=image/jpeg:https://edmontonaa.net/wp-content/uploads/2023/08/PICPC-Image.jpg
GEO:53.5518157;-113.5363494
X-APPLE-STRUCTURED-LOCATION;VALUE=URI;X-ADDRESS=Alano Club 10728 124 Street NW Edmonton Alberta T5M 0H1 Canada;X-APPLE-RADIUS=500;X-TITLE=10728 124 Street NW:geo:-113.5363494,53.5518157
END:VEVENT
END:VCALENDAR