BEGIN:VCALENDAR
VERSION:2.0
PRODID:-//General Service Committees - ECPv6.15.16.1//NONSGML v1.0//EN
CALSCALE:GREGORIAN
METHOD:PUBLISH
X-WR-CALNAME:General Service Committees
X-ORIGINAL-URL:https://edmontonaa.net
X-WR-CALDESC:Events for General Service Committees
REFRESH-INTERVAL;VALUE=DURATION:PT1H
X-Robots-Tag:noindex
X-PUBLISHED-TTL:PT1H
BEGIN:VTIMEZONE
TZID:America/Edmonton
BEGIN:DAYLIGHT
TZOFFSETFROM:-0700
TZOFFSETTO:-0600
TZNAME:MDT
DTSTART:20250309T090000
END:DAYLIGHT
BEGIN:STANDARD
TZOFFSETFROM:-0600
TZOFFSETTO:-0700
TZNAME:MST
DTSTART:20251102T080000
END:STANDARD
BEGIN:DAYLIGHT
TZOFFSETFROM:-0700
TZOFFSETTO:-0600
TZNAME:MDT
DTSTART:20260308T090000
END:DAYLIGHT
BEGIN:STANDARD
TZOFFSETFROM:-0600
TZOFFSETTO:-0700
TZNAME:MST
DTSTART:20261101T080000
END:STANDARD
BEGIN:DAYLIGHT
TZOFFSETFROM:-0700
TZOFFSETTO:-0600
TZNAME:MDT
DTSTART:20270314T090000
END:DAYLIGHT
BEGIN:STANDARD
TZOFFSETFROM:-0600
TZOFFSETTO:-0700
TZNAME:MST
DTSTART:20271107T080000
END:STANDARD
END:VTIMEZONE
BEGIN:VEVENT
DTSTART;TZID=America/Edmonton:20260420T180000
DTEND;TZID=America/Edmonton:20260420T183000
DTSTAMP:20260423T121710
CREATED:20260417T201002Z
LAST-MODIFIED:20260417T201005Z
UID:10001128-1776708000-1776709800@edmontonaa.net
SUMMARY:CPC Ad-Hoc Committee Meeting
DESCRIPTION:We are striking an Ad-hoc Committee for our upcoming Luncheon. We will discuss name’s of people to present and assign tasks for the upcoming event. \n\n\n\nWHERE: Zoom  \n\n\n\nMeeting ID: 845 5436 7737 \n\n\n\nPasscode: 955821
URL:https://edmontonaa.net/event/cpc-ad-hoc-committee-meeting-2/
LOCATION:Alberta
CATEGORIES:PI/CPC
ATTACH;FMTTYPE=image/jpeg:https://edmontonaa.net/wp-content/uploads/2023/08/PICPC-Image.jpg
END:VEVENT
BEGIN:VEVENT
DTSTART;TZID=America/Edmonton:20260525T083000
DTEND;TZID=America/Edmonton:20260525T095500
DTSTAMP:20260423T121710
CREATED:20260118T193549Z
LAST-MODIFIED:20260118T193551Z
UID:10001108-1779697800-1779702900@edmontonaa.net
SUMMARY:Stony Plain Memorial High School Calm Class 1
DESCRIPTION:This is a Public Information presentation. This is a CALM class (Career and Life Management). We typically present to grade 11 or 12 students. The aim of CALM is to help students make well-informed\, considered decisions and choices in all aspects of their lives and to develop behaviours and attitudes that contribute to the well-being and respect of self and others. Participants will learn how alcohol can affect their lives and the lives of those around them\, the problems alcohol may cause and how to find websites and literature on alcohol.  It is advised that you show up at least 30 minutes before “go time.” The address is 50 Westerra Centre\, Stony Plain\, Alberta\, T7Z 1R3 (see attached map). The school phone number is 780-963-2255 with Kevin Schurack. Parking can be found along the side of the school. \n\n\n\nSlide Deck & Agenda \n\n\n\nSpeaker Notes
URL:https://edmontonaa.net/event/stony-plain-memorial-high-school-calm-class-1/
LOCATION:Edmonton\, Alberta\, Canada
CATEGORIES:PI/CPC
ATTACH;FMTTYPE=image/jpeg:https://edmontonaa.net/wp-content/uploads/2023/08/PICPC-Image.jpg
END:VEVENT
BEGIN:VEVENT
DTSTART;TZID=America/Edmonton:20260525T122500
DTEND;TZID=America/Edmonton:20260525T132500
DTSTAMP:20260423T121710
CREATED:20260118T193252Z
LAST-MODIFIED:20260118T193254Z
UID:10001107-1779711900-1779715500@edmontonaa.net
SUMMARY:Stony Plain Memorial High School Calm Class 2
DESCRIPTION:This is a Public Information presentation. This is a CALM class (Career and Life Management). We typically present to grade 11 or 12 students. The aim of CALM is to help students make well-informed\, considered decisions and choices in all aspects of their lives and to develop behaviours and attitudes that contribute to the well-being and respect of self and others. Participants will learn how alcohol can affect their lives and the lives of those around them\, the problems alcohol may cause and how to find websites and literature on alcohol.  It is advised that you show up at least 30 minutes before “go time.” The address is 50 Westerra Centre\, Stony Plain\, Alberta\, T7Z 1R3 (see attached map). The school phone number is 780-963-2255 with Kevin Schurack. Parking can be found along the side of the school. \n\n\n\nSlide Deck & Agenda \n\n\n\nSpeaker Notes
URL:https://edmontonaa.net/event/stony-plain-memorial-high-school-calm-class-2/
LOCATION:Edmonton\, Alberta\, Canada
CATEGORIES:PI/CPC
ATTACH;FMTTYPE=image/jpeg:https://edmontonaa.net/wp-content/uploads/2023/08/PICPC-Image.jpg
END:VEVENT
BEGIN:VEVENT
DTSTART;TZID=America/Edmonton:20260525T135500
DTEND;TZID=America/Edmonton:20260525T152000
DTSTAMP:20260423T121710
CREATED:20260118T193920Z
LAST-MODIFIED:20260118T193922Z
UID:10001109-1779717300-1779722400@edmontonaa.net
SUMMARY:Stony Plain Memorial High School Calm Class 3
DESCRIPTION:This is a Public Information presentation. This is a CALM class (Career and Life Management). We typically present to grade 11 or 12 students. The aim of CALM is to help students make well-informed\, considered decisions and choices in all aspects of their lives and to develop behaviours and attitudes that contribute to the well-being and respect of self and others. Participants will learn how alcohol can affect their lives and the lives of those around them\, the problems alcohol may cause and how to find websites and literature on alcohol.  It is advised that you show up at least 30 minutes before “go time.” The address is 50 Westerra Centre\, Stony Plain\, Alberta\, T7Z 1R3 (see attached map). The school phone number is 780-963-2255 with Kevin Schurack. Parking can be found along the side of the school. \n\n\n\nSlide Deck & Agenda \n\n\n\nSpeaker Notes
URL:https://edmontonaa.net/event/stony-plain-memorial-high-school-calm-class-3/
LOCATION:Edmonton\, Alberta\, Canada
CATEGORIES:PI/CPC
ATTACH;FMTTYPE=image/jpeg:https://edmontonaa.net/wp-content/uploads/2023/08/PICPC-Image.jpg
END:VEVENT
END:VCALENDAR