BEGIN:VCALENDAR
VERSION:2.0
PRODID:-//General Service Committees - ECPv6.15.16.1//NONSGML v1.0//EN
CALSCALE:GREGORIAN
METHOD:PUBLISH
X-WR-CALNAME:General Service Committees
X-ORIGINAL-URL:https://edmontonaa.net
X-WR-CALDESC:Events for General Service Committees
REFRESH-INTERVAL;VALUE=DURATION:PT1H
X-Robots-Tag:noindex
X-PUBLISHED-TTL:PT1H
BEGIN:VTIMEZONE
TZID:America/Edmonton
BEGIN:DAYLIGHT
TZOFFSETFROM:-0700
TZOFFSETTO:-0600
TZNAME:MDT
DTSTART:20250309T090000
END:DAYLIGHT
BEGIN:STANDARD
TZOFFSETFROM:-0600
TZOFFSETTO:-0700
TZNAME:MST
DTSTART:20251102T080000
END:STANDARD
BEGIN:DAYLIGHT
TZOFFSETFROM:-0700
TZOFFSETTO:-0600
TZNAME:MDT
DTSTART:20260308T090000
END:DAYLIGHT
BEGIN:STANDARD
TZOFFSETFROM:-0600
TZOFFSETTO:-0700
TZNAME:MST
DTSTART:20261101T080000
END:STANDARD
BEGIN:DAYLIGHT
TZOFFSETFROM:-0700
TZOFFSETTO:-0600
TZNAME:MDT
DTSTART:20270314T090000
END:DAYLIGHT
BEGIN:STANDARD
TZOFFSETFROM:-0600
TZOFFSETTO:-0700
TZNAME:MST
DTSTART:20271107T080000
END:STANDARD
END:VTIMEZONE
BEGIN:VEVENT
DTSTART;TZID=America/Edmonton:20260309T100000
DTEND;TZID=America/Edmonton:20260309T112700
DTSTAMP:20260423T020818
CREATED:20260128T220021Z
LAST-MODIFIED:20260128T220023Z
UID:10001121-1773050400-1773055620@edmontonaa.net
SUMMARY:Austin O'Brien CALM Class
DESCRIPTION:This is a Public Information presentation. This is a CALM class (Career and Life Management). We typically present to grade 11 or 12 students. The aim of CALM is to help students make well-informed\, considered decisions and choices in all aspects of their lives and to develop behaviours and attitudes that contribute to the well-being and respect of self and others. Participants will learn how alcohol can affect their lives and the lives of those around them\, the problems alcohol may cause and how to find websites and literature on alcohol. It is advised that you show up at least 30 minutes before “go time.” The address is 6110 95th Avenue Edmonton  (see attached map). The school phone number is 780-466-3161. Parking is available on the street or in the church parking lot. The teacher for this class is Marivic Nicolas\, the room will be given when checking in at the office. \n\n\n\n \n\n\n\nSlide Deck
URL:https://edmontonaa.net/event/austin-obrien-calm-class/
LOCATION:Edmonton\, Canada
CATEGORIES:PI/CPC
ATTACH;FMTTYPE=image/jpeg:https://edmontonaa.net/wp-content/uploads/2023/08/PICPC-Image.jpg
END:VEVENT
BEGIN:VEVENT
DTSTART;TZID=America/Edmonton:20260310T083000
DTEND;TZID=America/Edmonton:20260310T095700
DTSTAMP:20260423T020818
CREATED:20260128T215644Z
LAST-MODIFIED:20260128T215646Z
UID:10001119-1773131400-1773136620@edmontonaa.net
SUMMARY:Austin O'Brien CALM Class 1
DESCRIPTION:This is a Public Information presentation. This is a CALM class (Career and Life Management). We typically present to grade 11 or 12 students. The aim of CALM is to help students make well-informed\, considered decisions and choices in all aspects of their lives and to develop behaviours and attitudes that contribute to the well-being and respect of self and others. Participants will learn how alcohol can affect their lives and the lives of those around them\, the problems alcohol may cause and how to find websites and literature on alcohol. It is advised that you show up at least 30 minutes before “go time.” The address is 6110 95th Avenue Edmonton  (see attached map). The school phone number is 780-466-3161. Parking is available on the street or in the church parking lot. The teacher for this class is Marivic Nicolas\, the room will be given when checking in at the office. \n\n\n\n \n\n\n\nSlide Deck
URL:https://edmontonaa.net/event/austin-obrien-calm-class-1/
LOCATION:Edmonton\, Canada
CATEGORIES:PI/CPC
ATTACH;FMTTYPE=image/jpeg:https://edmontonaa.net/wp-content/uploads/2023/08/PICPC-Image.jpg
END:VEVENT
BEGIN:VEVENT
DTSTART;TZID=America/Edmonton:20260310T121100
DTEND;TZID=America/Edmonton:20260310T133800
DTSTAMP:20260423T020818
CREATED:20260128T215848Z
LAST-MODIFIED:20260128T215852Z
UID:10001120-1773144660-1773149880@edmontonaa.net
SUMMARY:Austin O'Brien CALM Class 2
DESCRIPTION:This is a Public Information presentation. This is a CALM class (Career and Life Management). We typically present to grade 11 or 12 students. The aim of CALM is to help students make well-informed\, considered decisions and choices in all aspects of their lives and to develop behaviours and attitudes that contribute to the well-being and respect of self and others. Participants will learn how alcohol can affect their lives and the lives of those around them\, the problems alcohol may cause and how to find websites and literature on alcohol. It is advised that you show up at least 30 minutes before “go time.” The address is 6110 95th Avenue Edmonton  (see attached map). The school phone number is 780-466-3161. Parking is available on the street or in the church parking lot. The teacher for this class is Marivic Nicolas\, the room will be given when checking in at the office. \n\n\n\n \n\n\n\nSlide Deck
URL:https://edmontonaa.net/event/austin-obrien-calm-class-2/
LOCATION:Edmonton\, Canada
CATEGORIES:PI/CPC
ATTACH;FMTTYPE=image/jpeg:https://edmontonaa.net/wp-content/uploads/2023/08/PICPC-Image.jpg
END:VEVENT
BEGIN:VEVENT
DTSTART;TZID=America/Edmonton:20260313T190000
DTEND;TZID=America/Edmonton:20260313T200000
DTSTAMP:20260423T020818
CREATED:20260311T210252Z
LAST-MODIFIED:20260311T210254Z
UID:10001124-1773428400-1773432000@edmontonaa.net
SUMMARY:CPC Ad-Hoc Committee Meeting
DESCRIPTION:We are striking an Ad-hoc Committee for our upcoming Luncheon. We will discuss name’s of people to present and assign tasks for the upcoming event. \n\n\n\nWHERE:Zoom  780239-1546
URL:https://edmontonaa.net/event/cpc-ad-hoc-committee-meeting/
LOCATION:Zoom 7802391546\, Edmonton
CATEGORIES:PI/CPC
ATTACH;FMTTYPE=image/jpeg:https://edmontonaa.net/wp-content/uploads/2023/08/PICPC-Image.jpg
END:VEVENT
BEGIN:VEVENT
DTSTART;TZID=America/Edmonton:20260318T180000
DTEND;TZID=America/Edmonton:20260318T190000
DTSTAMP:20260423T020818
CREATED:20260106T013228Z
LAST-MODIFIED:20260106T013230Z
UID:10001046-1773856800-1773860400@edmontonaa.net
SUMMARY:PICPC Committee Meeting
DESCRIPTION:This is our monthly committee meeting. We discuss upcoming events and roles that need to be filled. All AA members are welcome. Come with us! \n\n\n\nDecember Agenda \n\n\n\nNovember Minutes
URL:https://edmontonaa.net/event/picpc-committee-meeting-11/2026-03-18/
LOCATION:Alano Club\, 10728 124 Street NW\, Edmonton\, Alberta\, T5M 0H1\, Canada
CATEGORIES:PI/CPC
ATTACH;FMTTYPE=image/jpeg:https://edmontonaa.net/wp-content/uploads/2023/08/PICPC-Image.jpg
GEO:53.5518157;-113.5363494
X-APPLE-STRUCTURED-LOCATION;VALUE=URI;X-ADDRESS=Alano Club 10728 124 Street NW Edmonton Alberta T5M 0H1 Canada;X-APPLE-RADIUS=500;X-TITLE=10728 124 Street NW:geo:-113.5363494,53.5518157
END:VEVENT
BEGIN:VEVENT
DTSTART;TZID=America/Edmonton:20260324T092700
DTEND;TZID=America/Edmonton:20260324T105100
DTSTAMP:20260423T020818
CREATED:20260312T210858Z
LAST-MODIFIED:20260312T210901Z
UID:10001125-1774344420-1774349460@edmontonaa.net
SUMMARY:Paul Kane High School
DESCRIPTION:This is a Public Information presentation. This is a CALM class (Career and Life Management). We typically present to grade 11 or 12 students. The aim of CALM is to help students make well-informed\, considered decisions and choices in all aspects of their lives and to develop behaviours and attitudes that contribute to the well-being and respect of self and others. Participants will learn how alcohol can affect their lives and the lives of those around them\, the problems alcohol may cause and how to find websites and literature on alcohol.  It is advised that you show up at least 30 minutes before “go time.” The address is 12 Cunningham Road\, St. Albert(see attached map). The school phone number is 780-459-4405. We will be in room 1105 with Matt Heyworth. Parking Instructions: Please park on the staff lot side (right side of the front of the school). The numbered stalls on the perimeter of that lot are for staff. The unmarked stalls in the center of the lot are available for guest parking. \n\n\n\nSlide Deck & Agenda \n\n\n\nSpeaker Notes
URL:https://edmontonaa.net/event/paul-kane-high-school-2/
LOCATION:Paul Kane High School\, 12 Cunningham Road\, St. Albert\, AB\, T8N 2E9\, Canada
CATEGORIES:PI/CPC
ATTACH;FMTTYPE=image/jpeg:https://edmontonaa.net/wp-content/uploads/2023/08/PICPC-Image.jpg
END:VEVENT
BEGIN:VEVENT
DTSTART;TZID=America/Edmonton:20260325T102500
DTEND;TZID=America/Edmonton:20260325T113000
DTSTAMP:20260423T020818
CREATED:20260312T211100Z
LAST-MODIFIED:20260312T211103Z
UID:10001126-1774434300-1774438200@edmontonaa.net
SUMMARY:Paul Kane High School
DESCRIPTION:This is a Public Information presentation. This is a CALM class (Career and Life Management). We typically present to grade 11 or 12 students. The aim of CALM is to help students make well-informed\, considered decisions and choices in all aspects of their lives and to develop behaviours and attitudes that contribute to the well-being and respect of self and others. Participants will learn how alcohol can affect their lives and the lives of those around them\, the problems alcohol may cause and how to find websites and literature on alcohol.  It is advised that you show up at least 30 minutes before “go time.” The address is 12 Cunningham Road\, St. Albert(see attached map). The school phone number is 780-459-4405. We will be in room 1105 with Matt Heyworth. Parking Instructions: Please park on the staff lot side (right side of the front of the school). The numbered stalls on the perimeter of that lot are for staff. The unmarked stalls in the center of the lot are available for guest parking. \n\n\n\nSlide Deck & Agenda \n\n\n\nSpeaker Notes
URL:https://edmontonaa.net/event/paul-kane-high-school-3/
LOCATION:Paul Kane High School\, 12 Cunningham Road\, St. Albert\, AB\, T8N 2E9\, Canada
CATEGORIES:PI/CPC
ATTACH;FMTTYPE=image/jpeg:https://edmontonaa.net/wp-content/uploads/2023/08/PICPC-Image.jpg
END:VEVENT
BEGIN:VEVENT
DTSTART;TZID=America/Edmonton:20260325T132500
DTEND;TZID=America/Edmonton:20260325T143000
DTSTAMP:20260423T020818
CREATED:20260312T211315Z
LAST-MODIFIED:20260312T211319Z
UID:10001127-1774445100-1774449000@edmontonaa.net
SUMMARY:Paul Kane High School
DESCRIPTION:This is a Public Information presentation. This is a CALM class (Career and Life Management). We typically present to grade 11 or 12 students. The aim of CALM is to help students make well-informed\, considered decisions and choices in all aspects of their lives and to develop behaviours and attitudes that contribute to the well-being and respect of self and others. Participants will learn how alcohol can affect their lives and the lives of those around them\, the problems alcohol may cause and how to find websites and literature on alcohol.  It is advised that you show up at least 30 minutes before “go time.” The address is 12 Cunningham Road\, St. Albert(see attached map). The school phone number is 780-459-4405. We will be in room 1105 with Matt Heyworth. Parking Instructions: Please park on the staff lot side (right side of the front of the school). The numbered stalls on the perimeter of that lot are for staff. The unmarked stalls in the center of the lot are available for guest parking. \n\n\n\nSlide Deck & Agenda \n\n\n\nSpeaker Notes
URL:https://edmontonaa.net/event/paul-kane-high-school-4/
LOCATION:Paul Kane High School\, 12 Cunningham Road\, St. Albert\, AB\, T8N 2E9\, Canada
CATEGORIES:PI/CPC
ATTACH;FMTTYPE=image/jpeg:https://edmontonaa.net/wp-content/uploads/2023/08/PICPC-Image.jpg
END:VEVENT
END:VCALENDAR