BEGIN:VCALENDAR
VERSION:2.0
PRODID:-//General Service Committees - ECPv6.15.16.1//NONSGML v1.0//EN
CALSCALE:GREGORIAN
METHOD:PUBLISH
X-WR-CALNAME:General Service Committees
X-ORIGINAL-URL:https://edmontonaa.net
X-WR-CALDESC:Events for General Service Committees
REFRESH-INTERVAL;VALUE=DURATION:PT1H
X-Robots-Tag:noindex
X-PUBLISHED-TTL:PT1H
BEGIN:VTIMEZONE
TZID:America/Edmonton
BEGIN:DAYLIGHT
TZOFFSETFROM:-0700
TZOFFSETTO:-0600
TZNAME:MDT
DTSTART:20250309T090000
END:DAYLIGHT
BEGIN:STANDARD
TZOFFSETFROM:-0600
TZOFFSETTO:-0700
TZNAME:MST
DTSTART:20251102T080000
END:STANDARD
BEGIN:DAYLIGHT
TZOFFSETFROM:-0700
TZOFFSETTO:-0600
TZNAME:MDT
DTSTART:20260308T090000
END:DAYLIGHT
BEGIN:STANDARD
TZOFFSETFROM:-0600
TZOFFSETTO:-0700
TZNAME:MST
DTSTART:20261101T080000
END:STANDARD
BEGIN:DAYLIGHT
TZOFFSETFROM:-0700
TZOFFSETTO:-0600
TZNAME:MDT
DTSTART:20270314T090000
END:DAYLIGHT
BEGIN:STANDARD
TZOFFSETFROM:-0600
TZOFFSETTO:-0700
TZNAME:MST
DTSTART:20271107T080000
END:STANDARD
END:VTIMEZONE
BEGIN:VEVENT
DTSTART;TZID=America/Edmonton:20260218T180000
DTEND;TZID=America/Edmonton:20260218T190000
DTSTAMP:20260423T035105
CREATED:20260106T013228Z
LAST-MODIFIED:20260106T013230Z
UID:10001045-1771437600-1771441200@edmontonaa.net
SUMMARY:PICPC Committee Meeting
DESCRIPTION:This is our monthly committee meeting. We discuss upcoming events and roles that need to be filled. All AA members are welcome. Come with us! \n\n\n\nDecember Agenda \n\n\n\nNovember Minutes
URL:https://edmontonaa.net/event/picpc-committee-meeting-11/2026-02-18/
LOCATION:Alano Club\, 10728 124 Street NW\, Edmonton\, Alberta\, T5M 0H1\, Canada
CATEGORIES:PI/CPC
ATTACH;FMTTYPE=image/jpeg:https://edmontonaa.net/wp-content/uploads/2023/08/PICPC-Image.jpg
GEO:53.5518157;-113.5363494
X-APPLE-STRUCTURED-LOCATION;VALUE=URI;X-ADDRESS=Alano Club 10728 124 Street NW Edmonton Alberta T5M 0H1 Canada;X-APPLE-RADIUS=500;X-TITLE=10728 124 Street NW:geo:-113.5363494,53.5518157
END:VEVENT
BEGIN:VEVENT
DTSTART;TZID=America/Edmonton:20260223T121400
DTEND;TZID=America/Edmonton:20260223T133500
DTSTAMP:20260423T035105
CREATED:20260201T194454Z
LAST-MODIFIED:20260201T195109Z
UID:10001122-1771848840-1771853700@edmontonaa.net
SUMMARY:St. Francis Xavier CALM Class
DESCRIPTION:This is a Public Information presentation. This is a CALM class (Career and Life Management). We typically present to grade 11 or 12 students. The aim of CALM is to help students make well-informed\, considered decisions and choices in all aspects of their lives and to develop behaviours and attitudes that contribute to the well-being and respect of self and others. Participants will learn how alcohol can affect their lives and the lives of those around them\, the problems alcohol may cause and how to find websites and literature on alcohol. It is advised that you show up at least 30 minutes before “go time.” The address is 9250 163 Street Edmonton  (see attached map). The school phone number is 780-489-2571. Parking is available at the side of the school\, closer to the REC Centre. The teachers for this class is Poplawski\, the room number will be given at the office when signing in. \n\n\n\nParking instructions: Parking is available at the side of the school\, closer to the REC Centre. \n\n\n\nSlide Deck & Agenda
URL:https://edmontonaa.net/event/st-francis-xavier-calm-class/
LOCATION:St. Francis Xavier\, 9250 163 Street\, Edmonton\, Alberta\, T5R 0A7\, Canada
CATEGORIES:PI/CPC
ATTACH;FMTTYPE=image/jpeg:https://edmontonaa.net/wp-content/uploads/2023/08/PICPC-Image.jpg
GEO:53.5297313;-113.6036443
X-APPLE-STRUCTURED-LOCATION;VALUE=URI;X-ADDRESS=St. Francis Xavier 9250 163 Street Edmonton Alberta T5R 0A7 Canada;X-APPLE-RADIUS=500;X-TITLE=9250 163 Street:geo:-113.6036443,53.5297313
END:VEVENT
BEGIN:VEVENT
DTSTART;TZID=America/Edmonton:20260224T133800
DTEND;TZID=America/Edmonton:20260224T145900
DTSTAMP:20260423T035105
CREATED:20260201T195007Z
LAST-MODIFIED:20260201T195009Z
UID:10001123-1771940280-1771945140@edmontonaa.net
SUMMARY:St. Francis Xavier CALM Class 1&2
DESCRIPTION:This is a Public Information presentation. This is a CALM class (Career and Life Management). We typically present to grade 11 or 12 students. The aim of CALM is to help students make well-informed\, considered decisions and choices in all aspects of their lives and to develop behaviours and attitudes that contribute to the well-being and respect of self and others. Participants will learn how alcohol can affect their lives and the lives of those around them\, the problems alcohol may cause and how to find websites and literature on alcohol. It is advised that you show up at least 30 minutes before “go time.” The address is 9250 163 Street Edmonton  (see attached map). The school phone number is 780-489-2571. Parking is available at the side of the school\, closer to the REC Centre. The teachers for this class is Bunch/Johns (2 classes)\, the room number will be given at the office when signing in. \n\n\n\nParking instructions: Parking is available at the side of the school\, closer to the REC Centre. \n\n\n\nSlide Deck & Agenda
URL:https://edmontonaa.net/event/st-francis-xavier-calm-class-12/
LOCATION:St. Francis Xavier\, 9250 163 Street\, Edmonton\, Alberta\, T5R 0A7\, Canada
CATEGORIES:PI/CPC
ATTACH;FMTTYPE=image/jpeg:https://edmontonaa.net/wp-content/uploads/2023/08/PICPC-Image.jpg
GEO:53.5297313;-113.6036443
X-APPLE-STRUCTURED-LOCATION;VALUE=URI;X-ADDRESS=St. Francis Xavier 9250 163 Street Edmonton Alberta T5R 0A7 Canada;X-APPLE-RADIUS=500;X-TITLE=9250 163 Street:geo:-113.6036443,53.5297313
END:VEVENT
END:VCALENDAR