BEGIN:VCALENDAR
VERSION:2.0
PRODID:-//General Service Committees - ECPv6.15.16.1//NONSGML v1.0//EN
CALSCALE:GREGORIAN
METHOD:PUBLISH
X-WR-CALNAME:General Service Committees
X-ORIGINAL-URL:https://edmontonaa.net
X-WR-CALDESC:Events for General Service Committees
REFRESH-INTERVAL;VALUE=DURATION:PT1H
X-Robots-Tag:noindex
X-PUBLISHED-TTL:PT1H
BEGIN:VTIMEZONE
TZID:America/Edmonton
BEGIN:DAYLIGHT
TZOFFSETFROM:-0700
TZOFFSETTO:-0600
TZNAME:MDT
DTSTART:20240310T090000
END:DAYLIGHT
BEGIN:STANDARD
TZOFFSETFROM:-0600
TZOFFSETTO:-0700
TZNAME:MST
DTSTART:20241103T080000
END:STANDARD
BEGIN:DAYLIGHT
TZOFFSETFROM:-0700
TZOFFSETTO:-0600
TZNAME:MDT
DTSTART:20250309T090000
END:DAYLIGHT
BEGIN:STANDARD
TZOFFSETFROM:-0600
TZOFFSETTO:-0700
TZNAME:MST
DTSTART:20251102T080000
END:STANDARD
BEGIN:DAYLIGHT
TZOFFSETFROM:-0700
TZOFFSETTO:-0600
TZNAME:MDT
DTSTART:20260308T090000
END:DAYLIGHT
BEGIN:STANDARD
TZOFFSETFROM:-0600
TZOFFSETTO:-0700
TZNAME:MST
DTSTART:20261101T080000
END:STANDARD
END:VTIMEZONE
BEGIN:VEVENT
DTSTART;TZID=America/Edmonton:20251002T080000
DTEND;TZID=America/Edmonton:20251002T092400
DTSTAMP:20260423T104950
CREATED:20250910T151658Z
LAST-MODIFIED:20250910T151702Z
UID:10001017-1759392000-1759397040@edmontonaa.net
SUMMARY:Paul Kane High School
DESCRIPTION:This is a Public Information presentation. This is a CALM class (Career and Life Management). We typically present to grade 11 or 12 students. The aim of CALM is to help students make well-informed\, considered decisions and choices in all aspects of their lives and to develop behaviours and attitudes that contribute to the well-being and respect of self and others. Participants will learn how alcohol can affect their lives and the lives of those around them\, the problems alcohol may cause and how to find websites and literature on alcohol.  It is advised that you show up at least 30 minutes before “go time.” The address is 12 Cunningham Road\, St. Albert(see attached map). The school phone number is 780-459-4405. We will be in room 1105 with Matt Heyworth. Parking Instructions: Please park on the staff lot side (right side of the front of the school). The numbered stalls on the perimeter of that lot are for staff. The unmarked stalls in the center of the lot are available for guest parking. \n\n\n\nSlide Deck & Agenda \n\n\n\nSpeaker Notes
URL:https://edmontonaa.net/event/paul-kane-high-school/
LOCATION:Paul Kane High School\, 12 Cunningham Road\, St. Albert\, AB\, T8N 2E9\, Canada
CATEGORIES:PI/CPC
ATTACH;FMTTYPE=image/jpeg:https://edmontonaa.net/wp-content/uploads/2023/08/PICPC-Image.jpg
END:VEVENT
BEGIN:VEVENT
DTSTART;TZID=America/Edmonton:20251015T180000
DTEND;TZID=America/Edmonton:20251015T190000
DTSTAMP:20260423T104950
CREATED:20241130T201424Z
LAST-MODIFIED:20241130T201426Z
UID:10000956-1760551200-1760554800@edmontonaa.net
SUMMARY:PICPC Committee Meeting
DESCRIPTION:This is our monthly committee meeting. We discuss upcoming events and roles that need to be filled. All AA members are welcome. Come with us! \n\n\n\nOctober Agenda \n\n\n\nSeptember Minutes
URL:https://edmontonaa.net/event/picpc-committee-meeting-8/
LOCATION:Alano Club\, 10728 124 Street NW\, Edmonton\, Alberta\, T5M 0H1\, Canada
CATEGORIES:PI/CPC
ATTACH;FMTTYPE=image/jpeg:https://edmontonaa.net/wp-content/uploads/2023/08/PICPC-Image.jpg
GEO:53.5518157;-113.5363494
X-APPLE-STRUCTURED-LOCATION;VALUE=URI;X-ADDRESS=Alano Club 10728 124 Street NW Edmonton Alberta T5M 0H1 Canada;X-APPLE-RADIUS=500;X-TITLE=10728 124 Street NW:geo:-113.5363494,53.5518157
END:VEVENT
BEGIN:VEVENT
DTSTART;TZID=America/Edmonton:20251022T083000
DTEND;TZID=America/Edmonton:20251022T095700
DTSTAMP:20260423T104950
CREATED:20250928T230431Z
LAST-MODIFIED:20251020T204442Z
UID:10001029-1761121800-1761127020@edmontonaa.net
SUMMARY:POSTPONED-Austin O'Brien CALM Class 1
DESCRIPTION:This is a Public Information presentation. This is a CALM class (Career and Life Management). We typically present to grade 11 or 12 students. The aim of CALM is to help students make well-informed\, considered decisions and choices in all aspects of their lives and to develop behaviours and attitudes that contribute to the well-being and respect of self and others. Participants will learn how alcohol can affect their lives and the lives of those around them\, the problems alcohol may cause and how to find websites and literature on alcohol. It is advised that you show up at least 30 minutes before “go time.” The address is 6110 95th Avenue Edmonton  (see attached map). The school phone number is 780-466-3161. Parking is available on the street or in the church parking lot. The teacher for this class is Marivic Nicolas\, the room will be given when checking in at the office. \n\n\n\n \n\n\n\nSlide Deck
URL:https://edmontonaa.net/event/austin-obrien-calm-class-1-6/
LOCATION:Edmonton\, Canada
CATEGORIES:PI/CPC
ATTACH;FMTTYPE=image/jpeg:https://edmontonaa.net/wp-content/uploads/2023/08/PICPC-Image.jpg
END:VEVENT
END:VCALENDAR