BEGIN:VCALENDAR
VERSION:2.0
PRODID:-//General Service Committees - ECPv6.15.16.1//NONSGML v1.0//EN
CALSCALE:GREGORIAN
METHOD:PUBLISH
X-WR-CALNAME:General Service Committees
X-ORIGINAL-URL:https://edmontonaa.net
X-WR-CALDESC:Events for General Service Committees
REFRESH-INTERVAL;VALUE=DURATION:PT1H
X-Robots-Tag:noindex
X-PUBLISHED-TTL:PT1H
BEGIN:VTIMEZONE
TZID:America/Edmonton
BEGIN:DAYLIGHT
TZOFFSETFROM:-0700
TZOFFSETTO:-0600
TZNAME:MDT
DTSTART:20240310T090000
END:DAYLIGHT
BEGIN:STANDARD
TZOFFSETFROM:-0600
TZOFFSETTO:-0700
TZNAME:MST
DTSTART:20241103T080000
END:STANDARD
BEGIN:DAYLIGHT
TZOFFSETFROM:-0700
TZOFFSETTO:-0600
TZNAME:MDT
DTSTART:20250309T090000
END:DAYLIGHT
BEGIN:STANDARD
TZOFFSETFROM:-0600
TZOFFSETTO:-0700
TZNAME:MST
DTSTART:20251102T080000
END:STANDARD
BEGIN:DAYLIGHT
TZOFFSETFROM:-0700
TZOFFSETTO:-0600
TZNAME:MDT
DTSTART:20260308T090000
END:DAYLIGHT
BEGIN:STANDARD
TZOFFSETFROM:-0600
TZOFFSETTO:-0700
TZNAME:MST
DTSTART:20261101T080000
END:STANDARD
END:VTIMEZONE
BEGIN:VEVENT
DTSTART;TZID=America/Edmonton:20250603T091500
DTEND;TZID=America/Edmonton:20250603T101500
DTSTAMP:20260423T172749
CREATED:20250523T213842Z
LAST-MODIFIED:20250523T213845Z
UID:10000997-1748942100-1748945700@edmontonaa.net
SUMMARY:CPC Ad-Hoc Committee Meeting
DESCRIPTION:We will be discussing our upcoming luncheon for the Cooperation with the Professional Community. Roles will be determined and assigned. \n\n\n\nWHERE: 36 Mont Clam Cres. St. Albert
URL:https://edmontonaa.net/event/cpc-ad-hoc-committee-meeting-9/
LOCATION:Edmonton\, Canada
CATEGORIES:PI/CPC
ATTACH;FMTTYPE=image/jpeg:https://edmontonaa.net/wp-content/uploads/2023/08/PICPC-Image.jpg
END:VEVENT
BEGIN:VEVENT
DTSTART;TZID=America/Edmonton:20250618T180000
DTEND;TZID=America/Edmonton:20250618T190000
DTSTAMP:20260423T172749
CREATED:20241130T200554Z
LAST-MODIFIED:20241130T200556Z
UID:10000954-1750269600-1750273200@edmontonaa.net
SUMMARY:PICPC Committee Meeting
DESCRIPTION:This is our monthly committee meeting. We discuss upcoming events and roles that need to be filled. All AA members are welcome. Come with us! \n\n\n\nJune Agenda \n\n\n\nMay Minutes
URL:https://edmontonaa.net/event/picpc-committee-meeting-6/
LOCATION:Alano Club\, 10728 124 Street NW\, Edmonton\, Alberta\, T5M 0H1\, Canada
CATEGORIES:PI/CPC
ATTACH;FMTTYPE=image/jpeg:https://edmontonaa.net/wp-content/uploads/2023/08/PICPC-Image.jpg
GEO:53.5518157;-113.5363494
X-APPLE-STRUCTURED-LOCATION;VALUE=URI;X-ADDRESS=Alano Club 10728 124 Street NW Edmonton Alberta T5M 0H1 Canada;X-APPLE-RADIUS=500;X-TITLE=10728 124 Street NW:geo:-113.5363494,53.5518157
END:VEVENT
BEGIN:VEVENT
DTSTART;TZID=America/Edmonton:20250621T163000
DTEND;TZID=America/Edmonton:20250621T203000
DTSTAMP:20260423T172749
CREATED:20250614T125251Z
LAST-MODIFIED:20250614T131755Z
UID:10001002-1750523400-1750537800@edmontonaa.net
SUMMARY:Southside Group 75th Anniversary
DESCRIPTION:We have been invited to set up a table at the Southside Group 75th Anniversary. Committee members will be needed to man the PICPC table for the duration of the event. Table display\, banner and pamphlets will be provided. You will be expected to talk to people about Public Information and Cooperation with the Professional Community. The event is $25/person with a spaghetti dinner. \n\n\n\nSouthside Group 75th Anniversary Poster
URL:https://edmontonaa.net/event/southside-group-75th-anniversary/
LOCATION:Fulton Place Community League 6115 Fulton Road Edmonton\, Edmonton\, Alberta\, Canada
CATEGORIES:PI/CPC
ATTACH;FMTTYPE=image/jpeg:https://edmontonaa.net/wp-content/uploads/2023/08/PICPC-Image.jpg
ORGANIZER;CN="PI/CPC Chair":MAILTO:egsc.picpcchair@edmontonaa.org
END:VEVENT
END:VCALENDAR