BEGIN:VCALENDAR
VERSION:2.0
PRODID:-//General Service Committees - ECPv6.15.16.1//NONSGML v1.0//EN
CALSCALE:GREGORIAN
METHOD:PUBLISH
X-WR-CALNAME:General Service Committees
X-ORIGINAL-URL:https://edmontonaa.net
X-WR-CALDESC:Events for General Service Committees
REFRESH-INTERVAL;VALUE=DURATION:PT1H
X-Robots-Tag:noindex
X-PUBLISHED-TTL:PT1H
BEGIN:VTIMEZONE
TZID:America/Edmonton
BEGIN:DAYLIGHT
TZOFFSETFROM:-0700
TZOFFSETTO:-0600
TZNAME:MDT
DTSTART:20240310T090000
END:DAYLIGHT
BEGIN:STANDARD
TZOFFSETFROM:-0600
TZOFFSETTO:-0700
TZNAME:MST
DTSTART:20241103T080000
END:STANDARD
BEGIN:DAYLIGHT
TZOFFSETFROM:-0700
TZOFFSETTO:-0600
TZNAME:MDT
DTSTART:20250309T090000
END:DAYLIGHT
BEGIN:STANDARD
TZOFFSETFROM:-0600
TZOFFSETTO:-0700
TZNAME:MST
DTSTART:20251102T080000
END:STANDARD
BEGIN:DAYLIGHT
TZOFFSETFROM:-0700
TZOFFSETTO:-0600
TZNAME:MDT
DTSTART:20260308T090000
END:DAYLIGHT
BEGIN:STANDARD
TZOFFSETFROM:-0600
TZOFFSETTO:-0700
TZNAME:MST
DTSTART:20261101T080000
END:STANDARD
END:VTIMEZONE
BEGIN:VEVENT
DTSTART;TZID=America/Edmonton:20250201T090000
DTEND;TZID=America/Edmonton:20250201T210000
DTSTAMP:20260424T002640
CREATED:20250117T175628Z
LAST-MODIFIED:20250117T175631Z
UID:10000964-1738400400-1738443600@edmontonaa.net
SUMMARY:District 40: Beat The Mid-Winter Blues
DESCRIPTION:District 40 is holding their annual “Beat The Mid-Winter Blues” event. PI/CPC has been asked to set up and information booth for those in attendance. It is not a requirement to stay for the entire event. District 40 has one ticket available per committee. \n\n\n\nEvent Poster
URL:https://edmontonaa.net/event/district-40-beat-the-mid-winter-blues/
LOCATION:Laurier Heights Church\, 8505 142 St NW\, Edmonton\, Alberta\, Canada
CATEGORIES:PI/CPC
ATTACH;FMTTYPE=image/jpeg:https://edmontonaa.net/wp-content/uploads/2023/08/PICPC-Image.jpg
ORGANIZER;CN="PI/CPC Chair":MAILTO:egsc.picpcchair@edmontonaa.org
END:VEVENT
BEGIN:VEVENT
DTSTART;TZID=America/Edmonton:20250208T100000
DTEND;TZID=America/Edmonton:20250208T113000
DTSTAMP:20260424T002640
CREATED:20250117T182225Z
LAST-MODIFIED:20250117T182228Z
UID:10000965-1739008800-1739014200@edmontonaa.net
SUMMARY:East Bay\, Ca. PI/CPC Working Group
DESCRIPTION:Join us as we present to members in our East Bay Area  on how to make and maintain relationships with our friends outside of AA. We will go over how Edmonton PI/CPC connects with individuals inside and out of AA fellowship\, as well as communications within the committee.This group meets the second Saturday of every month to share ideas and local success\, informing the greater community and professionals about the AA organizations and the recovery program it offers. \n\n\n\n \n\n\n\nThis is an online event. The Zoom ID is 833 2428 3764 and the password is 411 \n\n\n\nSlide Deck
URL:https://edmontonaa.net/event/east-bay-ca-pi-cpc-working-group/
CATEGORIES:PI/CPC
ATTACH;FMTTYPE=image/jpeg:https://edmontonaa.net/wp-content/uploads/2023/08/PICPC-Image.jpg
END:VEVENT
BEGIN:VEVENT
DTSTART;TZID=America/Edmonton:20250219T180000
DTEND;TZID=America/Edmonton:20250219T190000
DTSTAMP:20260424T002640
CREATED:20241130T194447Z
LAST-MODIFIED:20241130T195227Z
UID:10000950-1739988000-1739991600@edmontonaa.net
SUMMARY:PICPC Committee Meeting
DESCRIPTION:This is our monthly committee meeting. We discuss upcoming events and roles that need to be filled. All AA members are welcome. Come with us! \n\n\n\nFebruary Agenda \n\n\n\nJanuary Minutes
URL:https://edmontonaa.net/event/picpc-committee-meeting-2/
LOCATION:Alano Club\, 10728 124 Street NW\, Edmonton\, Alberta\, T5M 0H1\, Canada
CATEGORIES:PI/CPC
ATTACH;FMTTYPE=image/jpeg:https://edmontonaa.net/wp-content/uploads/2023/08/PICPC-Image.jpg
GEO:53.5518157;-113.5363494
X-APPLE-STRUCTURED-LOCATION;VALUE=URI;X-ADDRESS=Alano Club 10728 124 Street NW Edmonton Alberta T5M 0H1 Canada;X-APPLE-RADIUS=500;X-TITLE=10728 124 Street NW:geo:-113.5363494,53.5518157
END:VEVENT
BEGIN:VEVENT
DTSTART;TZID=America/Edmonton:20250224T134500
DTEND;TZID=America/Edmonton:20250224T151500
DTSTAMP:20260424T002640
CREATED:20250213T182629Z
LAST-MODIFIED:20250213T182632Z
UID:10000984-1740404700-1740410100@edmontonaa.net
SUMMARY:St. Joseph Catholic High School
DESCRIPTION:This is a Public Information presentation. This is a CALM class (Career and Life Management). We typically present to grade 11 or 12 students. The aim of CALM is to help students make well-informed\, considered decisions and choices in all aspects of their lives and to develop behaviours and attitudes that contribute to the well-being and respect of self and others. Participants will learn how alcohol can affect their lives and the lives of those around them\, the problems alcohol may cause and how to find websites and literature on alcohol. It is advised that you show up at least 30 minutes before “go time.” The address is 10830 109 Street\, Edmonton. Parking is behind the school or within the neighbourhood. Please meet in the office as you will need to sign in. The name of the teacher is Owen Holloway.. \n\n\n\n Parking is behind the school or within the neighbourhood. \n\n\n\nSlide Deck \n\n\n\nSpeaker Notes \n\n\n\nCALM Outline \n\n\n\nAgenda
URL:https://edmontonaa.net/event/st-joseph-catholic-high-school/
LOCATION:Edmonton\, Canada
CATEGORIES:PI/CPC
ATTACH;FMTTYPE=image/jpeg:https://edmontonaa.net/wp-content/uploads/2023/08/PICPC-Image.jpg
END:VEVENT
END:VCALENDAR