BEGIN:VCALENDAR
VERSION:2.0
PRODID:-//General Service Committees - ECPv6.15.16.1//NONSGML v1.0//EN
CALSCALE:GREGORIAN
METHOD:PUBLISH
X-WR-CALNAME:General Service Committees
X-ORIGINAL-URL:https://edmontonaa.net
X-WR-CALDESC:Events for General Service Committees
REFRESH-INTERVAL;VALUE=DURATION:PT1H
X-Robots-Tag:noindex
X-PUBLISHED-TTL:PT1H
BEGIN:VTIMEZONE
TZID:America/Edmonton
BEGIN:DAYLIGHT
TZOFFSETFROM:-0700
TZOFFSETTO:-0600
TZNAME:MDT
DTSTART:20230312T090000
END:DAYLIGHT
BEGIN:STANDARD
TZOFFSETFROM:-0600
TZOFFSETTO:-0700
TZNAME:MST
DTSTART:20231105T080000
END:STANDARD
BEGIN:DAYLIGHT
TZOFFSETFROM:-0700
TZOFFSETTO:-0600
TZNAME:MDT
DTSTART:20240310T090000
END:DAYLIGHT
BEGIN:STANDARD
TZOFFSETFROM:-0600
TZOFFSETTO:-0700
TZNAME:MST
DTSTART:20241103T080000
END:STANDARD
BEGIN:DAYLIGHT
TZOFFSETFROM:-0700
TZOFFSETTO:-0600
TZNAME:MDT
DTSTART:20250309T090000
END:DAYLIGHT
BEGIN:STANDARD
TZOFFSETFROM:-0600
TZOFFSETTO:-0700
TZNAME:MST
DTSTART:20251102T080000
END:STANDARD
END:VTIMEZONE
BEGIN:VEVENT
DTSTART;TZID=America/Edmonton:20240925T111500
DTEND;TZID=America/Edmonton:20240925T131500
DTSTAMP:20260424T062646
CREATED:20240822T121440Z
LAST-MODIFIED:20240924T190047Z
UID:10000911-1727262900-1727270100@edmontonaa.net
SUMMARY:Norquest Social Work CPC Event
DESCRIPTION:This is a CPC event. Members of Cooperation with the Professional Community committees inform professionals and future professionals about AA – what we are\, where we are\, what we can do and what we cannot do. We attempt to establish better communication between AA’s and professionals\, to find simple and effective ways of cooperating without affiliating. \n\n\n\n \n\n\n\nIt is recommended that you show up 30 minutes before “go time”. The address is 10215 108 Street\, Edmonton. The room number for Wednesday September 25th – Civic Employees Legacy Tower (CELT) Room CELT 3-209 \n\n\n\nIf you sent Deloyce your licence plate number\, you have been registered for parking. For anyone parking that day who did not send plate numbers\, you will have to give it to the instructor\, Susan Otto. \n\n\n\nWe will be presenting to second year social work students.  \n\n\n\nSlide Deck \n\n\n\nParking Map
URL:https://edmontonaa.net/event/norquest-social-work-cpc-event/
LOCATION:Edmonton\, Canada
CATEGORIES:PI/CPC
ATTACH;FMTTYPE=image/jpeg:https://edmontonaa.net/wp-content/uploads/2023/08/PICPC-Image.jpg
END:VEVENT
BEGIN:VEVENT
DTSTART;TZID=America/Edmonton:20240926T111500
DTEND;TZID=America/Edmonton:20240926T131500
DTSTAMP:20260424T062646
CREATED:20240822T122240Z
LAST-MODIFIED:20240924T185908Z
UID:10000912-1727349300-1727356500@edmontonaa.net
SUMMARY:Norquest Social Work CPC Event
DESCRIPTION:This is a CPC event. Members of Cooperation with the Professional Community committees inform professionals and future professionals about AA – what we are\, where we are\, what we can do and what we cannot do. We attempt to establish better communication between AA’s and professionals\, to find simple and effective ways of cooperating without affiliating. \n\n\n\nIt is recommended that you show up 30 minutes before “go time”. The address is 10215 108 Street\, Edmonton. The room number for Thursday September 26th – Civic Employees Legacy Tower (CELT) Room CELT 5-203 \n\n\n\nIf you sent Deloyce your licence plate number\, you have been registered for parking. For anyone parking that day who did not sent plate numbers\, you will have to give it to the instructor\, Susan Otto. \n\n\n\nWe will be presenting to second year social work students.  \n\n\n\nNorquest College 10215 108 Street\, Edmonton \n\n\n\nSlide Deck \n\n\n\nParking Map
URL:https://edmontonaa.net/event/norquest-social-work-cpc-event-2/
CATEGORIES:PI/CPC
ATTACH;FMTTYPE=image/jpeg:https://edmontonaa.net/wp-content/uploads/2023/08/PICPC-Image.jpg
END:VEVENT
BEGIN:VEVENT
DTSTART;TZID=America/Edmonton:20240928T080000
DTEND;TZID=America/Edmonton:20240928T170000
DTSTAMP:20260424T062646
CREATED:20240828T145521Z
LAST-MODIFIED:20240828T151845Z
UID:10000913-1727510400-1727542800@edmontonaa.net
SUMMARY:Blue Jean Roundup PICPC Event
DESCRIPTION:This is a Roundup event. Participants will be expected to talk about Public Information and Cooperation with the Professional Community to interested people. Participants will be expected to bring literature and our banner\, and set up and take down an information table. You may be asked to give a short share on PICPC (who we are and what we do). If you plan on attending the banquet that evening\, the ticket cost is $40.00. More information will be available closer to the date. The time listed may not be the right time; again that information will be updated closer to the date.
URL:https://edmontonaa.net/event/blue-jean-roundup-picpc-event/
LOCATION:Fulton Place Community League 6115 Fulton Road Edmonton\, Edmonton\, Alberta\, Canada
CATEGORIES:PI/CPC
ATTACH;FMTTYPE=image/jpeg:https://edmontonaa.net/wp-content/uploads/2023/08/PICPC-Image.jpg
END:VEVENT
END:VCALENDAR